BEGIN:VCALENDAR
VERSION:2.0
PRODID:-//Tourism Southwest - ECPv6.15.20//NONSGML v1.0//EN
CALSCALE:GREGORIAN
METHOD:PUBLISH
X-ORIGINAL-URL:https://tourismsouthwest.ca
X-WR-CALDESC:Events for Tourism Southwest
REFRESH-INTERVAL;VALUE=DURATION:PT1H
X-Robots-Tag:noindex
X-PUBLISHED-TTL:PT1H
BEGIN:VTIMEZONE
TZID:UTC
BEGIN:STANDARD
TZOFFSETFROM:+0000
TZOFFSETTO:+0000
TZNAME:UTC
DTSTART:20240101T000000
END:STANDARD
END:VTIMEZONE
BEGIN:VEVENT
DTSTART;TZID=UTC:20250703T190000
DTEND;TZID=UTC:20250703T210000
DTSTAMP:20260419T164723
CREATED:20250703T184134Z
LAST-MODIFIED:20250703T184316Z
UID:10000468-1751569200-1751576400@tourismsouthwest.ca
SUMMARY:Music in the Park
DESCRIPTION: Music in the Park – Thursday\, July 3  Jerome W. Delaney Pavilion\, Blanche Brook Park\, Stephenville\, NL Thursday\, July 3 7:00 – 9:00 PM Live Performance by MPHStephenville Summer Soirée presents: Music in the Park — a celebration of community\, culture\, and local talent! Bring a chair or blanket and settle in for a summer sunset concert with the incredible MPH lighting up the stage.Enjoy good tunes\, good company\, and the beauty of the park — all for free!
URL:https://tourismsouthwest.ca/event/music-in-the-park/
ATTACH;FMTTYPE=image/jpeg:https://tourismsouthwest.ca/wp-content/uploads/2025/07/513979426_1392164392470840_4787890816843142188_n-1.jpg
END:VEVENT
END:VCALENDAR