BEGIN:VCALENDAR
VERSION:2.0
PRODID:-//Tourism Southwest - ECPv6.15.20//NONSGML v1.0//EN
CALSCALE:GREGORIAN
METHOD:PUBLISH
X-WR-CALNAME:Tourism Southwest
X-ORIGINAL-URL:https://tourismsouthwest.ca
X-WR-CALDESC:Events for Tourism Southwest
REFRESH-INTERVAL;VALUE=DURATION:PT1H
X-Robots-Tag:noindex
X-PUBLISHED-TTL:PT1H
BEGIN:VTIMEZONE
TZID:UTC
BEGIN:STANDARD
TZOFFSETFROM:+0000
TZOFFSETTO:+0000
TZNAME:UTC
DTSTART:20240101T000000
END:STANDARD
END:VTIMEZONE
BEGIN:VEVENT
DTSTART;TZID=UTC:20250811T140000
DTEND;TZID=UTC:20250811T150000
DTSTAMP:20260419T133058
CREATED:20250806T053659Z
LAST-MODIFIED:20250806T053739Z
UID:10000812-1754920800-1754924400@tourismsouthwest.ca
SUMMARY:Music in the Church
DESCRIPTION:🎶 Our Lady of Mercy Heritage Church & Complex presents: Music in the Church 🎶 \nThis summer\, step into history and harmony with Music in the Church\, a special event series at Our Lady of Mercy Heritage Church in Port au Port\, Newfoundland and Labrador. \n🕊️ Held in the largest wooden church in the province\, this series blends music\, culture\, and community in a space rich with heritage and beauty. Whether you’re a local resident or visiting the region\, these performances offer a peaceful and inspiring way to experience one of the area’s most treasured landmarks. \n📅 Schedule:Mondays\, Wednesdays & FridaysJuly 7th – August 29th🕑 Time: 2:00 PM – 3:00 PM🎟️ Admission: $10 at the door📍 Location: Our Lady of Mercy Heritage Church\, 101 Main St\, Port au Port West-Aguathuna \nFrom local talent to special guests\, each afternoon features a unique musical performance inside this breathtaking historic building. \nFor specific dates\, performers\, and updates\, visit our website:👉 https://www.ourladyofmercynl.com/ \nCome be part of something special. Celebrate music\, community\, and the living history of Our Lady of Mercy. ⛪🎵
URL:https://tourismsouthwest.ca/event/1505/2025-08-11/
ATTACH;FMTTYPE=image/jpeg:https://tourismsouthwest.ca/wp-content/uploads/2025/08/unnamed-1.jpg
END:VEVENT
BEGIN:VEVENT
DTSTART;TZID=UTC:20250811T190000
DTEND;TZID=UTC:20250811T210000
DTSTAMP:20260419T133059
CREATED:20250703T192716Z
LAST-MODIFIED:20250703T193343Z
UID:10000472-1754938800-1754946000@tourismsouthwest.ca
SUMMARY:Summer Soiree with Daresay
DESCRIPTION:🎶 Stephenville Summer Soirée Presents: Daresay Live at the Whaleback Ski Club 🎶 \nMark your calendars and grab your dancing shoes — you won’t want to miss this unforgettable night of traditional Newfoundland and Irish music! \n🕖 Time: 7:00 PM – 9:00 PM📍 Location: Whaleback Ski Club\, Stephenville🎟️ Tickets: $16.00 (Debbie’s Video & Eventbrite) \nJoin us as Daresay brings the energy with lively jigs-n-reels to help us celebrate the solstice in true East Coast style. Whether you’re up for a dance or just in it for the tunes\, this promises to be a night of music\, laughter\, and community spirit. \nCome kick up your heels and enjoy a true taste of Newfoundland culture! \nPurchase tickets here: Stephenville Summer Soiree Series Tickets\, Mon\, Aug 11\, 2025 at 7:00 PM | Eventbrite
URL:https://tourismsouthwest.ca/event/summer-soiree-with-daresay-2/
ATTACH;FMTTYPE=image/jpeg:https://tourismsouthwest.ca/wp-content/uploads/2025/07/515042632_1392814779072468_3062494489122969754_n.jpg
END:VEVENT
END:VCALENDAR