BEGIN:VCALENDAR
VERSION:2.0
PRODID:-//Tourism Southwest - ECPv6.15.20//NONSGML v1.0//EN
CALSCALE:GREGORIAN
METHOD:PUBLISH
X-ORIGINAL-URL:https://tourismsouthwest.ca
X-WR-CALDESC:Events for Tourism Southwest
REFRESH-INTERVAL;VALUE=DURATION:PT1H
X-Robots-Tag:noindex
X-PUBLISHED-TTL:PT1H
BEGIN:VTIMEZONE
TZID:UTC
BEGIN:STANDARD
TZOFFSETFROM:+0000
TZOFFSETTO:+0000
TZNAME:UTC
DTSTART:20240101T000000
END:STANDARD
END:VTIMEZONE
BEGIN:VEVENT
DTSTART;TZID=UTC:20250816T193000
DTEND;TZID=UTC:20250816T213000
DTSTAMP:20260419T133128
CREATED:20250703T213242Z
LAST-MODIFIED:20250703T213314Z
UID:10000688-1755372600-1755379800@tourismsouthwest.ca
SUMMARY:Made in Canada: A Celebrational Concert - Stephenville Theatre Festival
DESCRIPTION:Made in Canada: A Celebrational Concert \nFeaturing the full company and band of the 25th season\, we will close out our festival with an evening (or two) of hit songs from the Canadian Catalogue. A friendly twist on a gala night\, this show will leave everyone proud to be Canadian and part of the STF family. \nTICKETS: \n$42 Full Price$25 Student Rate (Under 25 Years Old)$38 Each Group of 4 or More (Save 10%)$35 Group of 15 or More (Save 15%)(HST & Service Charge Included) \nDATES/ LOCATION/ BOX OFFICE NUMBERS: \nAugust 16\, 2025 at 7:30 pmSTEPHENVILLE\, Arts & Culture Centre709-643-4553svboxoffice@artsandculturecentre.com \nSHOW LENGTH: 2 Hours \nINTERMISSION: Yes \nRECOMMENDED AUDIENCE AGE: All Ages \nPurchase tickets here: Made in Canada
URL:https://tourismsouthwest.ca/event/made-in-canada-a-celebrational-concert-stephenville-theatre-festival/
ATTACH;FMTTYPE=image/png:https://tourismsouthwest.ca/wp-content/uploads/2025/07/MadeInCanada-Poster-Square-new.png
END:VEVENT
END:VCALENDAR