BEGIN:VCALENDAR
VERSION:2.0
PRODID:-//Tourism Southwest - ECPv6.15.20//NONSGML v1.0//EN
CALSCALE:GREGORIAN
METHOD:PUBLISH
X-ORIGINAL-URL:https://tourismsouthwest.ca
X-WR-CALDESC:Events for Tourism Southwest
REFRESH-INTERVAL;VALUE=DURATION:PT1H
X-Robots-Tag:noindex
X-PUBLISHED-TTL:PT1H
BEGIN:VTIMEZONE
TZID:UTC
BEGIN:STANDARD
TZOFFSETFROM:+0000
TZOFFSETTO:+0000
TZNAME:UTC
DTSTART:20240101T000000
END:STANDARD
END:VTIMEZONE
BEGIN:VEVENT
DTSTART;TZID=UTC:20250817T130000
DTEND;TZID=UTC:20250817T150000
DTSTAMP:20260419T152037
CREATED:20250703T194744Z
LAST-MODIFIED:20250703T194744Z
UID:10000478-1755435600-1755442800@tourismsouthwest.ca
SUMMARY:Music at Kinsmen Town Square!
DESCRIPTION:Stephenville Summer Soirée Presents: Music at Kinsmen Town Square! \nGet ready to dance\, relax\, and enjoy great live music in the heart of Stephenville! Join us from 1:00 to 3:00 PM at Kinsmen Town Square for a vibrant afternoon of local musical talent\, community connection\, and summer fun. \nDates: July 20; August 3\, 10\, 17\, 24\nTime: 1:00 – 3:00 PM\nLocation: Kinsmen Town Square\, Stephenville\nAdmission: FREE! Bring a lawn chair and your dancing shoes! \nKinsmen Town Square is a vibrant outdoor gathering space in downtown Stephenville\, perfect for live performances. This event is part of the larger Stephenville Summer Soirée\, celebrating arts\, culture\, and community throughout the summer months. Bring your lawn chair\, gather your friends\, and support local music in a family-friendly setting. All performances are free to attend. \nSee the full Stephenville Summer Soirée schedule. \n 
URL:https://tourismsouthwest.ca/event/music-at-kinsmen-town-square/2025-08-17/
ATTACH;FMTTYPE=image/png:https://tourismsouthwest.ca/wp-content/uploads/2025/07/Screenshot-2025-07-03-171609.png
END:VEVENT
BEGIN:VEVENT
DTSTART;TZID=UTC:20250817T130000
DTEND;TZID=UTC:20250817T180000
DTSTAMP:20260419T152037
CREATED:20250703T210324Z
LAST-MODIFIED:20250703T210350Z
UID:10000672-1755435600-1755453600@tourismsouthwest.ca
SUMMARY:Fish & Seafood Feast - Pirate's Haven
DESCRIPTION:🦞 Fish & Seafood Feast – A True Taste of Newfoundland! 🐟📅 Sunday\, August 17\, 2025🕐 1:00 PM – 6:00 PM📍 Pirate’s Haven\, Robinsons \nJoin us for a full afternoon of mouth-watering traditional Newfoundland fish and seafood meals — freshly prepared and served in a beautiful coastal setting. \n💲 Prices vary depending on your meal choices. \nBring your appetite and come savour the flavours of the sea in a celebration of culture\, food\, and community. \n📲 Learn more or follow us:🔹 facebook.com/pirateshavenadventures🔹 pirateshavenadventures.com
URL:https://tourismsouthwest.ca/event/fish-seafood-feast-pirates-haven/
ATTACH;FMTTYPE=image/png:https://tourismsouthwest.ca/wp-content/uploads/2025/07/Screenshot-2025-07-03-182829-1.png
END:VEVENT
BEGIN:VEVENT
DTSTART;TZID=UTC:20250817T150000
DTEND;TZID=UTC:20250817T170000
DTSTAMP:20260419T152037
CREATED:20250703T203131Z
LAST-MODIFIED:20250721T011118Z
UID:10000609-1755442800-1755450000@tourismsouthwest.ca
SUMMARY:Gospel Concert / Free BBQ
DESCRIPTION:Zion Pentecostal Church presents:🎶 Gospel Concerts in the Park! 🎶 \n🗓️ Every Sunday – July 6\, 13\, 20 & Aug 3\, 10\, 17\, 24\, 31 \n🎵 3:00 – 4:00 PM – Uplifting Gospel Music🍔 4:00 – 5:00 PM – FREE BBQ for all attendees!\n📍 Jerome M. Delaney Pavilion\, Blanche Brook Park\, Stephenville \nCome enjoy powerful worship music in the beauty of Blanche Brook Park\, then stick around for delicious BBQ and friendly fellowship. \n🪑 Bring a lawn chair or blanket. Everyone is welcome!
URL:https://tourismsouthwest.ca/event/gospel-concert-free-bbq/2025-08-17/
ATTACH;FMTTYPE=image/png:https://tourismsouthwest.ca/wp-content/uploads/2025/07/Screenshot-2025-07-03-175523.png
END:VEVENT
END:VCALENDAR