BEGIN:VCALENDAR
VERSION:2.0
PRODID:-//Tourism Southwest - ECPv6.15.20//NONSGML v1.0//EN
CALSCALE:GREGORIAN
METHOD:PUBLISH
X-WR-CALNAME:Tourism Southwest
X-ORIGINAL-URL:https://tourismsouthwest.ca
X-WR-CALDESC:Events for Tourism Southwest
REFRESH-INTERVAL;VALUE=DURATION:PT1H
X-Robots-Tag:noindex
X-PUBLISHED-TTL:PT1H
BEGIN:VTIMEZONE
TZID:UTC
BEGIN:STANDARD
TZOFFSETFROM:+0000
TZOFFSETTO:+0000
TZNAME:UTC
DTSTART:20240101T000000
END:STANDARD
END:VTIMEZONE
BEGIN:VEVENT
DTSTART;VALUE=DATE:20250821
DTEND;VALUE=DATE:20250825
DTSTAMP:20260419T132939
CREATED:20250721T005239Z
LAST-MODIFIED:20250724T182743Z
UID:10000785-1755734400-1756079999@tourismsouthwest.ca
SUMMARY:Raise the Roof Festival
DESCRIPTION:🎶 RAISE THE ROOF – August 21–24\, 2025 🎶📍 Our Lady of Mercy\, 101 Main Street\, Aguathuna\, NL🌐 ourladyofmercynl.com \nGet ready for four days of incredible music\, workshops\, and community spirit at the Raise the Roof festival! This multi-day event celebrates Newfoundland and Labrador’s rich folk traditions and local talent\, with something for all ages and skill levels. \n🎤 Highlights include:🎻 Music workshops in banjo\, fiddle\, and mandolin🎶 Evening concerts featuring amazing local talent🌟 A special festival showcase with collaborative performances🎟️ Admission: Prices vary by event — some by donation! \n📅 Full Festival Line-Up:🪗 August 21 – Opening Music Circle: Led by Aldonna O’Keefe\, hosted by the BSG Folk Arts Council. Admission by donation. All ages welcome.🎼 August 22 – “Learn & Play” workshops: Morning: Fiddle (Donovan Conran)\, Afternoon: Mandolin (Donovan Conran) – *Participants are asked to bring their own instruments.                             Evening concert with Roblos Rock ($25 workshop / $20 concert)🎶 August 23 – Workshops continue: Banjo (David Stacey\, morning)\, Fiddle (Jess Perevensoff\, afternoon) *Participants are asked to bring their own instruments. + “Family Ties Musical Vibes” evening show – Featuring local family groups such as the Whites\, Roses\, Nolans\, and Mercers. ($10)🎤 August 24 – Festival Showcase: Performances by workshop participants and the Creative Circle: David Stacey with Morgan Hunt\, Don Dunphy with Esther Oosterbann\, Tammy Dutcher with Kevin Kendall\, and Shelley Kawaja wtih Gloria Hunt ($10) \n🎸 Bring your instruments. Bring your voice. Be part of something unforgettable! \n\n\n\n\n\n\n\n\n✨ For more info\, please visit: https://www.facebook.com/events/1429476361699067 \nhttps://www.facebook.com/ourladyofmercynl
URL:https://tourismsouthwest.ca/event/raise-the-roof-festival/
ATTACH;FMTTYPE=image/jpeg:https://tourismsouthwest.ca/wp-content/uploads/2025/07/unnamed-2.jpg
END:VEVENT
BEGIN:VEVENT
DTSTART;TZID=UTC:20250824T080000
DTEND;TZID=UTC:20250824T170000
DTSTAMP:20260419T132939
CREATED:20250703T194744Z
LAST-MODIFIED:20250703T194744Z
UID:10000479-1756022400-1756054800@tourismsouthwest.ca
SUMMARY:Music at Kinsmen Town Square!
DESCRIPTION:Stephenville Summer Soirée Presents: Music at Kinsmen Town Square! \nGet ready to dance\, relax\, and enjoy great live music in the heart of Stephenville! Join us from 1:00 to 3:00 PM at Kinsmen Town Square for a vibrant afternoon of local musical talent\, community connection\, and summer fun. \nDates: July 20; August 3\, 10\, 17\, 24\nTime: 1:00 – 3:00 PM\nLocation: Kinsmen Town Square\, Stephenville\nAdmission: FREE! Bring a lawn chair and your dancing shoes! \nKinsmen Town Square is a vibrant outdoor gathering space in downtown Stephenville\, perfect for live performances. This event is part of the larger Stephenville Summer Soirée\, celebrating arts\, culture\, and community throughout the summer months. Bring your lawn chair\, gather your friends\, and support local music in a family-friendly setting. All performances are free to attend. \nSee the full Stephenville Summer Soirée schedule. \n 
URL:https://tourismsouthwest.ca/event/music-at-kinsmen-town-square/2025-08-24/
ATTACH;FMTTYPE=image/png:https://tourismsouthwest.ca/wp-content/uploads/2025/07/Screenshot-2025-07-03-171609.png
END:VEVENT
BEGIN:VEVENT
DTSTART;TZID=UTC:20250824T150000
DTEND;TZID=UTC:20250824T170000
DTSTAMP:20260419T132939
CREATED:20250703T203131Z
LAST-MODIFIED:20250721T011118Z
UID:10000610-1756047600-1756054800@tourismsouthwest.ca
SUMMARY:Gospel Concert / Free BBQ
DESCRIPTION:Zion Pentecostal Church presents:🎶 Gospel Concerts in the Park! 🎶 \n🗓️ Every Sunday – July 6\, 13\, 20 & Aug 3\, 10\, 17\, 24\, 31 \n🎵 3:00 – 4:00 PM – Uplifting Gospel Music🍔 4:00 – 5:00 PM – FREE BBQ for all attendees!\n📍 Jerome M. Delaney Pavilion\, Blanche Brook Park\, Stephenville \nCome enjoy powerful worship music in the beauty of Blanche Brook Park\, then stick around for delicious BBQ and friendly fellowship. \n🪑 Bring a lawn chair or blanket. Everyone is welcome!
URL:https://tourismsouthwest.ca/event/gospel-concert-free-bbq/2025-08-24/
ATTACH;FMTTYPE=image/png:https://tourismsouthwest.ca/wp-content/uploads/2025/07/Screenshot-2025-07-03-175523.png
END:VEVENT
END:VCALENDAR